BEGIN:VCALENDAR
PRODID:-//eluceo/ical//2.0/EN
VERSION:2.0
CALSCALE:GREGORIAN
BEGIN:VEVENT
UID:ae5fabde6961f85b96863e4197572c17
DTSTAMP:20260420T065500Z
SUMMARY:Write Your World
DESCRIPTION:Join us to discuss and compare multiple genres of writing\, fro
 m novels and screenplays\, with writer and filmmaker Margaret M. MacDonald
 .\nCost: Free
URL:https://www.northsydney.nsw.gov.au/events/event/1391/write-your-world
DTSTART;TZID=Australia/Sydney:20260416T180000
DTEND;TZID=Australia/Sydney:20260416T190000
LOCATION:Stanton Library 234 Miller Street North Sydney\, NSW 2060
GEO:-33.832644;151.207636
X-APPLE-STRUCTURED-LOCATION;VALUE=URI;X-ADDRESS=Stanton Library 234 Miller 
 Street North Sydney\, NSW 2060;X-APPLE-RADIUS=49;X-TITLE=:geo:-33.832644,1
 51.207636
END:VEVENT
BEGIN:VTIMEZONE
TZID:Australia/Sydney
END:VTIMEZONE
END:VCALENDAR
