BEGIN:VCALENDAR
PRODID:-//eluceo/ical//2.0/EN
VERSION:2.0
CALSCALE:GREGORIAN
BEGIN:VEVENT
UID:47e2a0720e020f2b439c72500296bd66
DTSTAMP:20260423T074632Z
SUMMARY:Sunset Series
DESCRIPTION:Head to St Leonards Park for free live music\, kids activities 
 and a picnic this autumn.\nCost: Free
URL:https://www.northsydney.nsw.gov.au/events/event/899/sunset-series
DTSTART;TZID=Australia/Sydney:20260517T130000
DTEND;TZID=Australia/Sydney:20260517T170000
LOCATION:St Leonards Park Fig Tree Lane\, North Sydney\,  NSW 2060
GEO:-33.830144;151.209666
X-APPLE-STRUCTURED-LOCATION;VALUE=URI;X-ADDRESS=St Leonards Park Fig Tree L
 ane\, North Sydney\,  NSW 2060;X-APPLE-RADIUS=49;X-TITLE=:geo:-33.830144,1
 51.209666
END:VEVENT
BEGIN:VTIMEZONE
TZID:Australia/Sydney
END:VTIMEZONE
END:VCALENDAR
